Index of /checkResults/devel/bioc-LATEST/pcaExplorer/raw-results/palomino4

[ICO]NameLast modifiedSizeDescription

[DIR]Parent Directory  -  
[TXT]buildbin-out.txt19-Aug-2022 00:06 1.2K 
[   ]buildbin-summary.dcf19-Aug-2022 00:06 557  
[TXT]buildsrc-out.txt19-Aug-2022 00:06 896  
[   ]buildsrc-summary.dcf19-Aug-2022 00:06 469  
[TXT]checksrc-out.txt19-Aug-2022 00:06 3.4K 
[   ]checksrc-summary.dcf19-Aug-2022 00:06 466  
[TXT]install-out.txt19-Aug-2022 00:06 2.1K 
[   ]install-summary.dcf19-Aug-2022 00:06 664