Index of /checkResults/devel/bioc-LATEST/pcaExplorer/raw-results/nebbiolo2

[ICO]NameLast modifiedSizeDescription

[DIR]Parent Directory  -  
[TXT]buildsrc-out.txt20-Aug-2022 01:11 862  
[   ]buildsrc-summary.dcf20-Aug-2022 01:11 430  
[TXT]checksrc-out.txt20-Aug-2022 01:11 3.4K 
[   ]checksrc-summary.dcf20-Aug-2022 01:11 440  
[TXT]install-out.txt20-Aug-2022 01:11 959  
[   ]install-summary.dcf20-Aug-2022 01:11 267