Index of /checkResults/devel/bioc-LATEST/pcaExplorer/raw-results/lconway

[ICO]NameLast modifiedSizeDescription

[DIR]Parent Directory  -  
[TXT]buildbin-out.txt02-Jul-2022 00:08 1.2K 
[   ]buildbin-summary.dcf02-Jul-2022 00:08 554  
[TXT]buildsrc-out.txt02-Jul-2022 00:08 872  
[   ]buildsrc-summary.dcf02-Jul-2022 00:08 440  
[TXT]checksrc-out.txt02-Jul-2022 00:08 3.5K 
[   ]checksrc-summary.dcf02-Jul-2022 00:08 460  
[TXT]install-out.txt02-Jul-2022 00:08 1.0K 
[   ]install-summary.dcf02-Jul-2022 00:08 277