Index of /checkResults/devel/bioc-LATEST/paxtoolsr/raw-results/kunpeng2
Name
Last modified
Size
Description
Parent Directory
-
buildsrc-out.txt
09-Jul-2024 00:45
1.4K
buildsrc-summary.dcf
09-Jul-2024 00:45
325
install-out.txt
07-Jul-2024 00:44
940
install-summary.dcf
07-Jul-2024 00:44
250