Back to Multiple platform build/check report for BioC 3.18: simplified long |
|
This page was generated on 2023-09-29 12:02:49 -0400 (Fri, 29 Sep 2023).
Hostname | OS | Arch (*) | R version | Installed pkgs |
---|---|---|---|---|
nebbiolo2 | Linux (Ubuntu 22.04.2 LTS) | x86_64 | 4.3.1 (2023-06-16) -- "Beagle Scouts" | 4660 |
palomino4 | Windows Server 2022 Datacenter | x64 | 4.3.1 (2023-06-16 ucrt) -- "Beagle Scouts" | 4395 |
lconway | macOS 12.6.5 Monterey | x86_64 | 4.3.1 Patched (2023-06-17 r84564) -- "Beagle Scouts" | 4409 |
kunpeng2 | Linux (openEuler 22.03 LTS-SP1) | aarch64 | 4.3.1 (2023-06-16) -- "Beagle Scouts" | 4400 |
Click on any hostname to see more info about the system (e.g. compilers) (*) as reported by 'uname -p', except on Windows and Mac OS X |
Package 1492/2233 | Hostname | OS / Arch | INSTALL | BUILD | CHECK | BUILD BIN | ||||||||
paxtoolsr 1.35.0 (landing page) Augustin Luna
| nebbiolo2 | Linux (Ubuntu 22.04.2 LTS) / x86_64 | OK | OK | OK | ![]() | ||||||||
palomino4 | Windows Server 2022 Datacenter / x64 | OK | OK | ERROR | OK | |||||||||
lconway | macOS 12.6.5 Monterey / x86_64 | OK | OK | ERROR | OK | |||||||||
kunpeng2 | Linux (openEuler 22.03 LTS-SP1) / aarch64 | OK | OK | ERROR | ||||||||||
To the developers/maintainers of the paxtoolsr package: - Allow up to 24 hours (and sometimes 48 hours) for your latest push to git@git.bioconductor.org:packages/paxtoolsr.git to reflect on this report. See Troubleshooting Build Report for more information. - Use the following Renviron settings to reproduce errors and warnings. - If 'R CMD check' started to fail recently on the Linux builder(s) over a missing dependency, add the missing dependency to 'Suggests:' in your DESCRIPTION file. See Renviron.bioc for more information. |
Package: paxtoolsr |
Version: 1.35.0 |
Command: /home/biocbuild/bbs-3.18-bioc/R/bin/R CMD check --install=check:paxtoolsr.install-out.txt --library=/home/biocbuild/bbs-3.18-bioc/R/site-library --timings paxtoolsr_1.35.0.tar.gz |
StartedAt: 2023-09-29 00:13:21 -0400 (Fri, 29 Sep 2023) |
EndedAt: 2023-09-29 00:16:18 -0400 (Fri, 29 Sep 2023) |
EllapsedTime: 176.4 seconds |
RetCode: 0 |
Status: OK |
CheckDir: paxtoolsr.Rcheck |
Warnings: 0 |
############################################################################## ############################################################################## ### ### Running command: ### ### /home/biocbuild/bbs-3.18-bioc/R/bin/R CMD check --install=check:paxtoolsr.install-out.txt --library=/home/biocbuild/bbs-3.18-bioc/R/site-library --timings paxtoolsr_1.35.0.tar.gz ### ############################################################################## ############################################################################## * using log directory ‘/home/biocbuild/bbs-3.18-bioc/meat/paxtoolsr.Rcheck’ * using R version 4.3.1 (2023-06-16) * using platform: x86_64-pc-linux-gnu (64-bit) * R was compiled by gcc (Ubuntu 11.3.0-1ubuntu1~22.04.1) 11.3.0 GNU Fortran (Ubuntu 11.3.0-1ubuntu1~22.04.1) 11.3.0 * running under: Ubuntu 22.04.3 LTS * using session charset: UTF-8 * checking for file ‘paxtoolsr/DESCRIPTION’ ... OK * checking extension type ... Package * this is package ‘paxtoolsr’ version ‘1.35.0’ * package encoding: UTF-8 * checking package namespace information ... OK * checking package dependencies ... OK * checking if this is a source package ... OK * checking if there is a namespace ... OK * checking for hidden files and directories ... OK * checking for portable file names ... OK * checking for sufficient/correct file permissions ... OK * checking whether package ‘paxtoolsr’ can be installed ... OK * checking installed package size ... NOTE installed size is 32.1Mb sub-directories of 1Mb or more: extdata 7.3Mb java 24.5Mb * checking package directory ... OK * checking ‘build’ directory ... OK * checking DESCRIPTION meta-information ... OK * checking top-level files ... OK * checking for left-over files ... OK * checking index information ... OK * checking package subdirectories ... OK * checking R files for non-ASCII characters ... OK * checking R files for syntax errors ... OK * checking whether the package can be loaded ... OK * checking whether the package can be loaded with stated dependencies ... OK * checking whether the package can be unloaded cleanly ... OK * checking whether the namespace can be loaded with stated dependencies ... OK * checking whether the namespace can be unloaded cleanly ... OK * checking loading without being on the library search path ... OK * checking startup messages can be suppressed ... OK * checking dependencies in R code ... OK * checking S3 generic/method consistency ... OK * checking replacement functions ... OK * checking foreign function calls ... OK * checking R code for possible problems ... NOTE splitSifnxByPathway: no visible global function definition for ‘%dopar%’ Undefined global functions or variables: %dopar% * checking Rd files ... OK * checking Rd metadata ... OK * checking Rd cross-references ... OK * checking for missing documentation entries ... OK * checking for code/documentation mismatches ... OK * checking Rd \usage sections ... OK * checking Rd contents ... OK * checking for unstated dependencies in examples ... OK * checking files in ‘vignettes’ ... OK * checking examples ... OK Examples with CPU (user + system) or elapsed time > 5s user system elapsed readPcPathwaysInfo 46.367 0.963 48.121 fetch 5.065 0.144 1.001 * checking for unstated dependencies in ‘tests’ ... OK * checking tests ... Running ‘testthat.R’ OK * checking for unstated dependencies in vignettes ... OK * checking package vignettes in ‘inst/doc’ ... OK * checking running R code from vignettes ... ‘using_paxtoolsr.Rmd’ using ‘UTF-8’... OK NONE * checking re-building of vignette outputs ... OK * checking PDF version of manual ... OK * DONE Status: 2 NOTEs See ‘/home/biocbuild/bbs-3.18-bioc/meat/paxtoolsr.Rcheck/00check.log’ for details.
paxtoolsr.Rcheck/00install.out
############################################################################## ############################################################################## ### ### Running command: ### ### /home/biocbuild/bbs-3.18-bioc/R/bin/R CMD INSTALL paxtoolsr ### ############################################################################## ############################################################################## * installing to library ‘/home/biocbuild/bbs-3.18-bioc/R/site-library’ * installing *source* package ‘paxtoolsr’ ... ** using staged installation ** R ** inst ** byte-compile and prepare package for lazy loading ** help *** installing help indices ** building package indices ** installing vignettes ** testing if installed package can be loaded from temporary location ** testing if installed package can be loaded from final location ** testing if installed package keeps a record of temporary installation path * DONE (paxtoolsr)
paxtoolsr.Rcheck/tests/testthat.Rout
R version 4.3.1 (2023-06-16) -- "Beagle Scouts" Copyright (C) 2023 The R Foundation for Statistical Computing Platform: x86_64-pc-linux-gnu (64-bit) R is free software and comes with ABSOLUTELY NO WARRANTY. You are welcome to redistribute it under certain conditions. Type 'license()' or 'licence()' for distribution details. R is a collaborative project with many contributors. Type 'contributors()' for more information and 'citation()' on how to cite R or R packages in publications. Type 'demo()' for some demos, 'help()' for on-line help, or 'help.start()' for an HTML browser interface to help. Type 'q()' to quit R. > library(testthat) > library(paxtoolsr) Loading required package: rJava Loading required package: XML Consider citing this package: Luna A, et al. PaxtoolsR: pathway analysis in R using Pathway Commons. PMID: 26685306; citation("paxtoolsr") > > test_check("paxtoolsr") URL: http://www.pathwaycommons.org/pc2/get?uri=http%3A%2F%2Fidentifiers.org%2Funiprot%2FQ06609&uri=http%3A%2F%2Fidentifiers.org%2Funiprot%2FQ96EB6&format=BIOPAX 2023-09-29 00:15:08,862 385 [main] INFO org.biopax.paxtools.PaxtoolsMain - Collecting proteins for a pathway, the converter will also consider its sub-pathways, their sub-pathways, etc. 2023-09-29 00:15:08,871 394 [pool-1-thread-1] INFO org.biopax.paxtools.io.gsea.GSEAConverter - Begin converting Glycolysis Pathway pathway, uri=http://www.biopax.org/examples/myExamplePathway50 2023-09-29 00:15:08,877 400 [pool-1-thread-1] INFO org.biopax.paxtools.io.gsea.GSEAConverter - - fetched PRs: 2 2023-09-29 00:15:08,877 400 [pool-1-thread-1] INFO org.biopax.paxtools.io.gsea.GSEAConverter - - grouping the PRs by organism... 2023-09-29 00:15:08,885 408 [pool-1-thread-1] INFO org.biopax.paxtools.io.gsea.GSEAConverter - - creating GSEA/GMT entries... 2023-09-29 00:15:08,886 409 [pool-2-thread-1] INFO org.biopax.paxtools.io.gsea.GSEAConverter - adding uniprot IDs of proteins (PRs) from 'Glycolysis Pathway', amaze;kegg pathway... 2023-09-29 00:15:08,888 411 [pool-1-thread-1] INFO org.biopax.paxtools.io.gsea.GSEAConverter - - collected 1entries. 2023-09-29 00:15:08,889 412 [main] INFO org.biopax.paxtools.io.gsea.GSEAConverter - Creating entries for the rest fo (unused) PRs... 2023-09-29 00:15:09,465 988 [main] INFO org.biopax.paxtools.client.BiopaxValidatorClient - BioPAX Validator location: http://biopax.baderlab.org/check.html 2023-09-29 00:15:10,384 1907 [main] INFO org.biopax.paxtools.client.BiopaxValidatorClient - BioPAX Validator location: http://biopax.baderlab.org/check.html 2023-09-29 00:15:11,200 2723 [main] INFO org.biopax.paxtools.PaxtoolsMain - Elements in the result model: 240 SBGN-PD Layout is running... success ratio: 1.0 enhanced ratio: 1.0 Total execution time: 30 miliseconds. WARNING: An illegal reflective access operation has occurred WARNING: Illegal reflective access by com.sun.xml.bind.v2.runtime.reflect.opt.Injector$1 (file:/home/biocbuild/bbs-3.18-bioc/R/site-library/paxtoolsr/java/paxtools-4.3.1.jar) to method java.lang.ClassLoader.defineClass(java.lang.String,byte[],int,int) WARNING: Please consider reporting this to the maintainers of com.sun.xml.bind.v2.runtime.reflect.opt.Injector$1 WARNING: Use --illegal-access=warn to enable warnings of further illegal reflective access operations WARNING: All illegal access operations will be denied in a future release 2023-09-29 00:15:11,593 3116 [main] INFO org.biopax.paxtools.PaxtoolsMain - toSifnx: not blacklisting ubiquitous molecules (no blacklist.txt found) 2023-09-29 00:15:12,375 3898 [main] INFO org.biopax.paxtools.PaxtoolsMain - toSif: not blacklisting ubiquitous molecules (no blacklist.txt found) 2023-09-29 00:15:13,542 5065 [main] INFO org.biopax.paxtools.PaxtoolsMain - toSif: not blacklisting ubiquitous molecules (no blacklist.txt found) [ FAIL 0 | WARN 0 | SKIP 10 | PASS 40 ] ══ Skipped tests (10) ══════════════════════════════════════════════════════════ • On Bioconductor (7): 'test_pathwayCommons.R:38:5', 'test_pathwayCommons.R:63:5', 'test_pathwayCommons.R:77:5', 'test_pathwayCommons.R:131:5', 'test_pathwayCommons.R:169:5', 'test_pathwayCommons.R:185:5', 'test_pathwayCommons.R:260:5' • empty test (3): 'test_pathwayCommons.R:266:1', 'test_pathwayCommons.R:285:1', 'test_pathwayCommons.R:286:1' [ FAIL 0 | WARN 0 | SKIP 10 | PASS 40 ] > > proc.time() user system elapsed 24.490 0.947 18.725
paxtoolsr.Rcheck/paxtoolsr-Ex.timings
name | user | system | elapsed | |
addAttributeList | 0.017 | 0.000 | 0.017 | |
convertDataFrameListsToVectors | 0.002 | 0.000 | 0.003 | |
convertSifToGmt | 0.172 | 0.004 | 0.194 | |
downloadFile | 0.039 | 0.008 | 0.190 | |
downloadPc2 | 0.001 | 0.000 | 0.001 | |
downloadSignedPC | 0 | 0 | 0 | |
fetch | 5.065 | 0.144 | 1.001 | |
filterSif | 0.539 | 0.020 | 0.130 | |
getCacheFiles | 0.001 | 0.000 | 0.000 | |
getErrorMessage | 0.001 | 0.000 | 0.001 | |
getNeighbors | 1.108 | 0.016 | 0.169 | |
getPc | 0 | 0 | 0 | |
getPcDatabaseNames | 0.303 | 0.009 | 0.324 | |
getPcUrl | 0 | 0 | 0 | |
getShortestPathSif | 0.045 | 0.000 | 0.045 | |
getSifInteractionCategories | 0.001 | 0.000 | 0.000 | |
graphPc | 0 | 0 | 0 | |
integrateBiopax | 3.950 | 0.158 | 1.437 | |
loadSifInIgraph | 0.047 | 0.008 | 0.021 | |
mapValues | 0.001 | 0.000 | 0.001 | |
mergeBiopax | 1.396 | 0.100 | 0.981 | |
pcDirections | 0 | 0 | 0 | |
pcFormats | 0.001 | 0.000 | 0.001 | |
pcGraphQueries | 0.001 | 0.000 | 0.001 | |
processPcRequest | 0.023 | 0.000 | 0.019 | |
readBiopax | 0.007 | 0.000 | 0.004 | |
readGmt | 0.066 | 0.000 | 0.034 | |
readPcPathwaysInfo | 46.367 | 0.963 | 48.121 | |
readSbgn | 0.002 | 0.000 | 0.003 | |
readSif | 0.008 | 0.000 | 0.008 | |
readSifnx | 0.016 | 0.000 | 0.016 | |
searchListOfVectors | 0.001 | 0.001 | 0.001 | |
searchPc | 0 | 0 | 0 | |
summarize | 0.071 | 0.026 | 0.056 | |
summarizeSif | 0.026 | 0.000 | 0.010 | |
toCytoscape | 0.034 | 0.000 | 0.020 | |
toGSEA | 0.109 | 0.004 | 0.038 | |
toLevel3 | 0.204 | 0.017 | 0.072 | |
toSBGN | 1.758 | 0.048 | 0.511 | |
toSif | 2.730 | 0.076 | 0.575 | |
toSifnx | 3.723 | 0.081 | 0.600 | |
topPathways | 0 | 0 | 0 | |
traverse | 0 | 0 | 0 | |
validate | 3.370 | 0.038 | 2.083 | |