Back to Multiple platform build/check report for BioC 3.18:   simplified   long
ABCDEFGHIJKLMNO[P]QRSTUVWXYZ

This page was generated on 2023-09-23 11:40:20 -0400 (Sat, 23 Sep 2023).

HostnameOSArch (*)R versionInstalled pkgs
nebbiolo2Linux (Ubuntu 22.04.2 LTS)x86_644.3.1 (2023-06-16) -- "Beagle Scouts" 4659
palomino4Windows Server 2022 Datacenterx644.3.1 (2023-06-16 ucrt) -- "Beagle Scouts" 4394
lconwaymacOS 12.6.5 Montereyx86_644.3.1 Patched (2023-06-17 r84564) -- "Beagle Scouts" 4408
kunpeng2Linux (openEuler 22.03 LTS-SP1)aarch644.3.1 (2023-06-16) -- "Beagle Scouts" 4397
Click on any hostname to see more info about the system (e.g. compilers)      (*) as reported by 'uname -p', except on Windows and Mac OS X

Package 1491/2233HostnameOS / ArchINSTALLBUILDCHECKBUILD BIN
pathwayPCA 1.17.1  (landing page)
Gabriel Odom
Snapshot Date: 2023-09-22 14:05:07 -0400 (Fri, 22 Sep 2023)
git_url: https://git.bioconductor.org/packages/pathwayPCA
git_branch: devel
git_last_commit: de2e194
git_last_commit_date: 2023-06-29 10:04:39 -0400 (Thu, 29 Jun 2023)
nebbiolo2Linux (Ubuntu 22.04.2 LTS) / x86_64  OK    OK    OK  UNNEEDED, same version is already published
palomino4Windows Server 2022 Datacenter / x64  OK    OK    OK    OK  UNNEEDED, same version is already published
lconwaymacOS 12.6.5 Monterey / x86_64  OK    OK    OK    OK  UNNEEDED, same version is already published
kunpeng2Linux (openEuler 22.03 LTS-SP1) / aarch64  OK    OK    OK  

CHECK results for pathwayPCA on kunpeng2


To the developers/maintainers of the pathwayPCA package:
- Allow up to 24 hours (and sometimes 48 hours) for your latest push to git@git.bioconductor.org:packages/pathwayPCA.git to reflect on this report. See Troubleshooting Build Report for more information.
- Use the following Renviron settings to reproduce errors and warnings.
- If 'R CMD check' started to fail recently on the Linux builder(s) over a missing dependency, add the missing dependency to 'Suggests:' in your DESCRIPTION file. See Renviron.bioc for more information.
- See Martin Grigorov's blog post for how to debug Linux ARM64 related issues on a x86_64 host.

raw results


Summary

Package: pathwayPCA
Version: 1.17.1
Command: /home/biocbuild/R/R-4.3.1/bin/R CMD check --install=check:pathwayPCA.install-out.txt --library=/home/biocbuild/R/R-4.3.1/site-library --timings pathwayPCA_1.17.1.tar.gz
StartedAt: 2023-09-23 09:34:14 -0000 (Sat, 23 Sep 2023)
EndedAt: 2023-09-23 09:41:18 -0000 (Sat, 23 Sep 2023)
EllapsedTime: 424.7 seconds
RetCode: 0
Status:   OK  
CheckDir: pathwayPCA.Rcheck
Warnings: 0

Command output

##############################################################################
##############################################################################
###
### Running command:
###
###   /home/biocbuild/R/R-4.3.1/bin/R CMD check --install=check:pathwayPCA.install-out.txt --library=/home/biocbuild/R/R-4.3.1/site-library --timings pathwayPCA_1.17.1.tar.gz
###
##############################################################################
##############################################################################


* using log directory ‘/home/biocbuild/bbs-3.18-bioc/meat/pathwayPCA.Rcheck’
* using R version 4.3.1 (2023-06-16)
* using platform: aarch64-unknown-linux-gnu (64-bit)
* R was compiled by
    gcc (GCC) 10.3.1
    GNU Fortran (GCC) 10.3.1
* running under: openEuler 22.03 (LTS-SP1)
* using session charset: UTF-8
* checking for file ‘pathwayPCA/DESCRIPTION’ ... OK
* checking extension type ... Package
* this is package ‘pathwayPCA’ version ‘1.17.1’
* package encoding: UTF-8
* checking package namespace information ... OK
* checking package dependencies ... OK
* checking if this is a source package ... OK
* checking if there is a namespace ... OK
* checking for hidden files and directories ... OK
* checking for portable file names ... OK
* checking for sufficient/correct file permissions ... OK
* checking whether package ‘pathwayPCA’ can be installed ... OK
* checking installed package size ... OK
* checking package directory ... OK
* checking ‘build’ directory ... OK
* checking DESCRIPTION meta-information ... OK
* checking top-level files ... OK
* checking for left-over files ... OK
* checking index information ... OK
* checking package subdirectories ... OK
* checking R files for non-ASCII characters ... OK
* checking R files for syntax errors ... OK
* checking whether the package can be loaded ... OK
* checking whether the package can be loaded with stated dependencies ... OK
* checking whether the package can be unloaded cleanly ... OK
* checking whether the namespace can be loaded with stated dependencies ... OK
* checking whether the namespace can be unloaded cleanly ... OK
* checking loading without being on the library search path ... OK
* checking dependencies in R code ... OK
* checking S3 generic/method consistency ... OK
* checking replacement functions ... OK
* checking foreign function calls ... OK
* checking R code for possible problems ... OK
* checking Rd files ... OK
* checking Rd metadata ... OK
* checking Rd cross-references ... OK
* checking for missing documentation entries ... OK
* checking for code/documentation mismatches ... OK
* checking Rd \usage sections ... OK
* checking Rd contents ... OK
* checking for unstated dependencies in examples ... OK
* checking contents of ‘data’ directory ... OK
* checking data for non-ASCII characters ... OK
* checking data for ASCII and uncompressed saves ... OK
* checking files in ‘vignettes’ ... OK
* checking examples ... OK
Examples with CPU (user + system) or elapsed time > 5s
                 user system elapsed
SE2Tidy        13.074  0.293  13.401
AESPCA_pVals    0.476  0.024   7.831
LoadOntoPCs     0.407  0.052   7.500
ExtractAESPCs   0.393  0.040   5.749
SuperPCA_pVals  0.342  0.026   8.365
getPathpVals    0.336  0.014   9.395
getPathPCLs     0.307  0.018   9.538
* checking for unstated dependencies in ‘tests’ ... OK
* checking tests ...
  Running ‘testthat.R’
 OK
* checking for unstated dependencies in vignettes ... OK
* checking package vignettes in ‘inst/doc’ ... OK
* checking running R code from vignettes ...
  ‘Introduction_to_pathwayPCA.Rmd’ using ‘UTF-8’... OK
  ‘Supplement1-Quickstart_Guide.Rmd’ using ‘UTF-8’... OK
  ‘Supplement2-Importing_Data.Rmd’ using ‘UTF-8’... OK
  ‘Supplement3-Create_Omics_Objects.Rmd’ using ‘UTF-8’... OK
  ‘Supplement4-Methods_Walkthrough.Rmd’ using ‘UTF-8’... OK
  ‘Supplement5-Analyse_Results.Rmd’ using ‘UTF-8’... OK
 NONE
* checking re-building of vignette outputs ... OK
* checking PDF version of manual ... OK
* DONE

Status: OK


Installation output

pathwayPCA.Rcheck/00install.out

##############################################################################
##############################################################################
###
### Running command:
###
###   /home/biocbuild/R/R-4.3.1/bin/R CMD INSTALL pathwayPCA
###
##############################################################################
##############################################################################


* installing to library ‘/home/biocbuild/R/R-4.3.1/site-library’
* installing *source* package ‘pathwayPCA’ ...
** using staged installation
** R
** data
** inst
** byte-compile and prepare package for lazy loading
** help
*** installing help indices
** building package indices
** installing vignettes
** testing if installed package can be loaded from temporary location
** testing if installed package can be loaded from final location
** testing if installed package keeps a record of temporary installation path
* DONE (pathwayPCA)

Tests output

pathwayPCA.Rcheck/tests/testthat.Rout


R version 4.3.1 (2023-06-16) -- "Beagle Scouts"
Copyright (C) 2023 The R Foundation for Statistical Computing
Platform: aarch64-unknown-linux-gnu (64-bit)

R is free software and comes with ABSOLUTELY NO WARRANTY.
You are welcome to redistribute it under certain conditions.
Type 'license()' or 'licence()' for distribution details.

R is a collaborative project with many contributors.
Type 'contributors()' for more information and
'citation()' on how to cite R or R packages in publications.

Type 'demo()' for some demos, 'help()' for on-line help, or
'help.start()' for an HTML browser interface to help.
Type 'q()' to quit R.

> library(testthat)
> library(pathwayPCA)
> 
> test_check("pathwayPCA")
[ FAIL 0 | WARN 0 | SKIP 0 | PASS 47 ]
> 
> proc.time()
   user  system elapsed 
 18.313   1.075  50.458 

Example timings

pathwayPCA.Rcheck/pathwayPCA-Ex.timings

nameusersystemelapsed
AESPCA_pVals0.4760.0247.831
CheckAssay000
CheckPwyColl000
CheckSampleIDs000
Contains0.0010.0000.001
ControlFDR000
CreateOmics0.5430.0120.556
CreateOmicsPathway0.1810.0080.189
CreatePathwayCollection0.0090.0000.009
ExtractAESPCs0.3930.0405.749
GumbelMixpValues0.0000.0010.000
IntersectOmicsPwyCollct000
JoinPhenoAssay000
LoadOntoPCs0.4070.0527.500
OptimGumbelMixParams0.0010.0000.001
PathwaytValues000
PermTestCateg000
PermTestReg000
PermTestSurv0.0000.0010.001
SE2Tidy13.074 0.29313.401
SubsetPathwayCollection0.0020.0000.003
SubsetPathwayData0.3250.0280.354
SuperPCA_pVals0.3420.0268.365
TabulatepValues000
TransposeAssay0.1440.0060.151
WhichPathways0.0080.0000.008
aespca000
coxTrain_fun000
getPathPCLs0.3070.0189.538
getPathpVals0.3360.0149.395
get_set_OmicsPathway0.8000.1960.998
get_set_OmicsRegCateg0.2620.0050.268
get_set_OmicsSurv0.3460.0140.360
glmTrain_fun0.0010.0000.000
lars.lsa000
mysvd000
normalize000
olsTrain_fun000
pathway_tControl0.0000.0000.001
pathway_tScores0.0000.0010.000
permuteSamps000
print.pathwayCollection0.0020.0010.004
read_gmt0.0780.0040.084
show-OmicsPathway-method0.2620.0040.266
superpc.st0.0000.0000.001
superpc.train000
write_gmt0.0020.0000.002