Back to Multiple platform build/check report for BioC 3.17
ABCDEFGHIJKLMNO[P]QRSTUVWXYZ

This page was generated on 2022-12-01 11:06:43 -0500 (Thu, 01 Dec 2022).

HostnameOSArch (*)R versionInstalled pkgs
nebbiolo1Linux (Ubuntu 22.04.1 LTS)x86_64R Under development (unstable) (2022-10-25 r83175) -- "Unsuffered Consequences" 4462
palomino3Windows Server 2022 Datacenterx64R Under development (unstable) (2022-10-11 r83083 ucrt) -- "Unsuffered Consequences" 4203
merida1macOS 10.14.6 Mojavex86_64R Under development (unstable) (2022-11-13 r83342) -- "Unsuffered Consequences" 4231
Click on any hostname to see more info about the system (e.g. compilers)      (*) as reported by 'uname -p', except on Windows and Mac OS X

BUILD results for pathRender on nebbiolo1


To the developers/maintainers of the pathRender package:
- Please allow up to 24 hours (and sometimes 48 hours) for your latest push to git@git.bioconductor.org:packages/pathRender.git to
reflect on this report. See How and When does the builder pull? When will my changes propagate? for more information.
- Make sure to use the following settings in order to reproduce any error or warning you see on this page.

raw results

Package 1428/2154HostnameOS / ArchINSTALLBUILDCHECKBUILD BIN
pathRender 1.67.0  (landing page)
Vince Carey
Snapshot Date: 2022-11-30 14:00:15 -0500 (Wed, 30 Nov 2022)
git_url: https://git.bioconductor.org/packages/pathRender
git_branch: master
git_last_commit: 2709b3b
git_last_commit_date: 2022-11-01 10:40:23 -0500 (Tue, 01 Nov 2022)
nebbiolo1Linux (Ubuntu 22.04.1 LTS) / x86_64  OK    OK    OK  UNNEEDED, same version is already published
palomino3Windows Server 2022 Datacenter / x64  OK    OK    OK    OK  UNNEEDED, same version is already published
merida1macOS 10.14.6 Mojave / x86_64  OK    OK    OK    OK  UNNEEDED, same version is already published

Summary

Package: pathRender
Version: 1.67.0
Command: /home/biocbuild/bbs-3.17-bioc/R/bin/R CMD build --keep-empty-dirs --no-resave-data pathRender
StartedAt: 2022-11-30 17:21:03 -0500 (Wed, 30 Nov 2022)
EndedAt: 2022-11-30 17:21:51 -0500 (Wed, 30 Nov 2022)
EllapsedTime: 48.0 seconds
RetCode: 0
Status:   OK  
PackageFile: pathRender_1.67.0.tar.gz
PackageFileSize: 146.6 KiB

Command output

##############################################################################
##############################################################################
###
### Running command:
###
###   /home/biocbuild/bbs-3.17-bioc/R/bin/R CMD build --keep-empty-dirs --no-resave-data pathRender
###
##############################################################################
##############################################################################


* checking for file ‘pathRender/DESCRIPTION’ ... OK
* preparing ‘pathRender’:
* checking DESCRIPTION meta-information ... OK
* installing the package to build vignettes
* creating vignettes ... OK
* checking for LF line-endings in source and make files and shell scripts
* checking for empty or unneeded directories
* building ‘pathRender_1.67.0.tar.gz’