Name | Last modified | Size | Description | |
---|---|---|---|---|
Parent Directory | - | |||
checksrc-summary.dcf | 12-Jul-2024 00:59 | 404 | ||
checksrc-out.txt | 12-Jul-2024 00:59 | 5.7K | ||
buildsrc-summary.dcf | 12-Jul-2024 00:59 | 416 | ||
buildsrc-out.txt | 12-Jul-2024 00:59 | 5.1K | ||
install-summary.dcf | 12-Jul-2024 00:59 | 254 | ||
install-out.txt | 12-Jul-2024 00:59 | 814 | ||