Name | Last modified | Size | Description | |
---|---|---|---|---|
Parent Directory | - | |||
checksrc-out.txt | 09-Jul-2024 00:45 | 1.4K | ||
checksrc-summary.dcf | 09-Jul-2024 00:45 | 316 | ||
buildsrc-summary.dcf | 09-Jul-2024 00:45 | 398 | ||
buildsrc-out.txt | 09-Jul-2024 00:45 | 5.0K | ||
install-summary.dcf | 06-Jul-2024 00:44 | 244 | ||
install-out.txt | 06-Jul-2024 00:44 | 621 | ||