Name | Last modified | Size | Description | |
---|---|---|---|---|
Parent Directory | - | |||
buildbin-out.txt | 12-Jun-2024 04:40 | 939 | ||
buildbin-summary.dcf | 12-Jun-2024 04:40 | 507 | ||
buildsrc-out.txt | 12-Jun-2024 04:40 | 948 | ||
buildsrc-summary.dcf | 12-Jun-2024 04:40 | 448 | ||
checksrc-out.txt | 12-Jun-2024 04:40 | 3.7K | ||
checksrc-summary.dcf | 12-Jun-2024 04:40 | 442 | ||
install-out.txt | 12-Jun-2024 04:40 | 817 | ||
install-summary.dcf | 12-Jun-2024 04:40 | 265 | ||