Back to Multiple platform build/check report for BioC 3.17
ABCDEFGHIJKLMN[O]PQRSTUVWXYZ

This page was generated on 2023-01-28 11:07:37 -0500 (Sat, 28 Jan 2023).

HostnameOSArch (*)R versionInstalled pkgs
nebbiolo1Linux (Ubuntu 22.04.1 LTS)x86_64R Under development (unstable) (2023-01-10 r83596) -- "Unsuffered Consequences" 4465
palomino3Windows Server 2022 Datacenterx64R Under development (unstable) (2023-01-10 r83596 ucrt) -- "Unsuffered Consequences" 4246
merida1macOS 10.14.6 Mojavex86_64R Under development (unstable) (2023-01-10 r83596) -- "Unsuffered Consequences" 4269
Click on any hostname to see more info about the system (e.g. compilers)      (*) as reported by 'uname -p', except on Windows and Mac OS X

BUILD results for optimalFlow on palomino3


To the developers/maintainers of the optimalFlow package:
- Please allow up to 24 hours (and sometimes 48 hours) for your latest push to git@git.bioconductor.org:packages/optimalFlow.git to
reflect on this report. See How and When does the builder pull? When will my changes propagate? for more information.
- Make sure to use the following settings in order to reproduce any error or warning you see on this page.

raw results

Package 1396/2162HostnameOS / ArchINSTALLBUILDCHECKBUILD BIN
optimalFlow 1.11.0  (landing page)
Hristo Inouzhe
Snapshot Date: 2023-01-27 14:00:19 -0500 (Fri, 27 Jan 2023)
git_url: https://git.bioconductor.org/packages/optimalFlow
git_branch: master
git_last_commit: be530d6
git_last_commit_date: 2022-11-01 11:22:05 -0500 (Tue, 01 Nov 2022)
nebbiolo1Linux (Ubuntu 22.04.1 LTS) / x86_64  OK    ERROR  skipped
palomino3Windows Server 2022 Datacenter / x64  OK    ERROR  skippedskipped
merida1macOS 10.14.6 Mojave / x86_64  OK    ERROR  skippedskipped

Summary

Package: optimalFlow
Version: 1.11.0
Command: chmod a+r optimalFlow -R && F:\biocbuild\bbs-3.17-bioc\R\bin\R.exe CMD build --keep-empty-dirs --no-resave-data optimalFlow
StartedAt: 2023-01-27 20:33:17 -0500 (Fri, 27 Jan 2023)
EndedAt: 2023-01-27 20:34:05 -0500 (Fri, 27 Jan 2023)
EllapsedTime: 47.4 seconds
RetCode: 1
Status:   ERROR  
PackageFile: None
PackageFileSize: NA

Command output

##############################################################################
##############################################################################
###
### Running command:
###
###   chmod a+r optimalFlow -R && F:\biocbuild\bbs-3.17-bioc\R\bin\R.exe CMD build --keep-empty-dirs --no-resave-data optimalFlow
###
##############################################################################
##############################################################################


* checking for file 'optimalFlow/DESCRIPTION' ... OK
* preparing 'optimalFlow':
* checking DESCRIPTION meta-information ... OK
* installing the package to build vignettes
* creating vignettes ...Warning in file(con, "r") :
  cannot open file 'F:\biocbuild\bbs-3.17-bioc\tmpdir\RtmpmCcm0f\xshell3c5c73dd5912': Permission denied
Error in file(con, "r") : cannot open the connection
Execution halted