Index of /checkResults/devel/bioc-LATEST/oppti/raw-results

[ICO]NameLast modifiedSizeDescription

[DIR]Parent Directory  -  
[   ]info.dcf18-Jan-2022 01:11 269  
[DIR]merida1/18-Jan-2022 01:11 -  
[DIR]nebbiolo1/18-Jan-2022 01:06 -  
[DIR]palomino3/18-Jan-2022 01:09 -  
[DIR]riesling1/18-Jan-2022 01:07 -