Index of /checkResults/devel/bioc-LATEST/openCyto/raw-results/palomino3

[ICO]NameLast modifiedSizeDescription

[DIR]Parent Directory  -  
[TXT]buildbin-out.txt23-Feb-2024 02:48 5.9K 
[   ]buildbin-summary.dcf23-Feb-2024 02:48 521  
[TXT]buildsrc-out.txt02-Mar-2024 01:38 1.6K 
[   ]buildsrc-summary.dcf02-Mar-2024 01:38 371  
[TXT]checksrc-out.txt23-Feb-2024 02:48 21K 
[   ]checksrc-summary.dcf23-Feb-2024 02:48 457  
[TXT]install-out.txt02-Mar-2024 01:38 5.7K 
[   ]install-summary.dcf02-Mar-2024 01:38 271