Index of /checkResults/devel/bioc-LATEST/ontoProc/raw-results/palomino8
Name
Last modified
Size
Description
Parent Directory
-
buildsrc-out.txt
27-Jul-2024 00:40
1.8K
buildsrc-summary.dcf
27-Jul-2024 00:40
371
install-out.txt
27-Jul-2024 00:40
1.5K
install-summary.dcf
27-Jul-2024 00:40
273