Index of /checkResults/devel/bioc-LATEST/ontoProc/raw-results/palomino4
Name
Last modified
Size
Description
Parent Directory
-
install-summary.dcf
12-Jun-2024 04:40
270
buildsrc-summary.dcf
12-Jun-2024 04:40
372
install-out.txt
12-Jun-2024 04:40
1.0K
buildsrc-out.txt
12-Jun-2024 04:40
1.2K