Index of /checkResults/devel/bioc-LATEST/ontoProc/raw-results/palomino4
Name
Last modified
Size
Description
Parent Directory
-
buildsrc-out.txt
04-May-2024 00:37
1.5K
buildsrc-summary.dcf
04-May-2024 00:37
371
install-out.txt
04-May-2024 00:37
1.0K
install-summary.dcf
04-May-2024 00:37
270