Index of /checkResults/devel/bioc-LATEST/ontoProc/raw-results/nebbiolo2
Name
Last modified
Size
Description
Parent Directory
-
buildsrc-out.txt
27-Jul-2024 00:39
1.3K
buildsrc-summary.dcf
27-Jul-2024 00:39
342
install-out.txt
27-Jul-2024 00:39
1.8K
install-summary.dcf
27-Jul-2024 00:39
261