Index of /checkResults/devel/bioc-LATEST/ontoProc/raw-results/lconway

[ICO]NameLast modifiedSizeDescription

[DIR]Parent Directory  -  
[TXT]buildbin-out.txt02-Jul-2022 00:07 1.2K 
[   ]buildbin-summary.dcf02-Jul-2022 00:07 536  
[TXT]buildsrc-out.txt02-Jul-2022 00:07 820  
[   ]buildsrc-summary.dcf02-Jul-2022 00:07 430  
[TXT]checksrc-out.txt02-Jul-2022 00:07 4.9K 
[   ]checksrc-summary.dcf02-Jul-2022 00:07 448  
[TXT]install-out.txt02-Jul-2022 00:07 1.0K 
[   ]install-summary.dcf02-Jul-2022 00:07 271