Index of /checkResults/devel/bioc-LATEST/ontoProc/raw-results/kunpeng2
Name
Last modified
Size
Description
Parent Directory
-
buildsrc-out.txt
09-Jul-2024 00:45
886
buildsrc-summary.dcf
09-Jul-2024 00:45
322
install-out.txt
06-Jul-2024 00:44
666
install-summary.dcf
06-Jul-2024 00:44
251