Index of /checkResults/devel/bioc-LATEST/ontoProc/raw-results/kunpeng2
Name
Last modified
Size
Description
Parent Directory
-
buildsrc-out.txt
29-Mar-2024 00:41
1.2K
buildsrc-summary.dcf
29-Mar-2024 00:41
345
install-out.txt
29-Mar-2024 00:41
1.0K
install-summary.dcf
29-Mar-2024 00:41
270