Index of /checkResults/devel/bioc-LATEST/ontoProc/raw-results

[ICO]NameLast modifiedSizeDescription

[DIR]Parent Directory  -  
[DIR]lconway/30-Jun-2022 00:05 -  
[   ]info.dcf30-Jun-2022 00:05 269  
[DIR]nebbiolo2/30-Jun-2022 00:04 -  
[DIR]palomino4/25-Jun-2022 00:06 -