Name | Last modified | Size | Description | |
---|---|---|---|---|
Parent Directory | - | |||
install-summary.dcf | 16-Jun-2024 01:33 | 263 | ||
install-out.txt | 16-Jun-2024 01:33 | 4.5K | ||
buildsrc-out.txt | 16-Jun-2024 01:33 | 868 | ||
buildsrc-summary.dcf | 16-Jun-2024 01:33 | 428 | ||
checksrc-out.txt | 16-Jun-2024 01:33 | 3.5K | ||
checksrc-summary.dcf | 16-Jun-2024 01:33 | 421 | ||