Index of /checkResults/devel/bioc-LATEST/oncomix/raw-results
Name
Last modified
Size
Description
Parent Directory
-
info.dcf
28-Jan-2023 01:10
277
merida1/
28-Jan-2023 01:10
-
nebbiolo1/
28-Jan-2023 01:06
-
palomino3/
28-Jan-2023 01:08
-