Back to Multiple platform build/check report for BioC 3.15
ABCDEFGHIJKLMN[O]PQRSTUVWXYZ

This page was generated on 2022-01-21 11:08:10 -0500 (Fri, 21 Jan 2022).

HostnameOSArch (*)R versionInstalled pkgs
nebbiolo1Linux (Ubuntu 20.04.4 LTS)x86_64R Under development (unstable) (2022-01-05 r81451) -- "Unsuffered Consequences" 4163
riesling1Windows Server 2019 Standardx64R Under development (unstable) (2021-11-21 r81221) -- "Unsuffered Consequences" 4058
palomino3Windows Server 2022 Datacenterx64R Under development (unstable) (2021-12-21 r81400 ucrt) -- "Unsuffered Consequences" 4000
merida1macOS 10.14.6 Mojavex86_64R Under development (unstable) (2022-01-05 r81451) -- "Unsuffered Consequences" 4117
Click on any hostname to see more info about the system (e.g. compilers)      (*) as reported by 'uname -p', except on Windows and Mac OS X

BUILD BIN results for omicsPrint on riesling1


To the developers/maintainers of the omicsPrint package:
- Please allow up to 24 hours (and sometimes 48 hours) for your latest push to git@git.bioconductor.org:packages/omicsPrint.git to
reflect on this report. See How and When does the builder pull? When will my changes propagate? here for more information.
- Make sure to use the following settings in order to reproduce any error or warning you see on this page.

raw results

Package 1324/2075HostnameOS / ArchINSTALLBUILDCHECKBUILD BIN
omicsPrint 1.15.1  (landing page)
Davy Cats
Snapshot Date: 2022-01-20 13:55:17 -0500 (Thu, 20 Jan 2022)
git_url: https://git.bioconductor.org/packages/omicsPrint
git_branch: master
git_last_commit: ba88bb9
git_last_commit_date: 2021-11-21 00:40:05 -0500 (Sun, 21 Nov 2021)
nebbiolo1Linux (Ubuntu 20.04.4 LTS) / x86_64  OK    OK    WARNINGS  UNNEEDED, same version is already published
riesling1Windows Server 2019 Standard / x64  OK    OK    WARNINGS    OK  
palomino3Windows Server 2022 Datacenter / x64  OK    OK    WARNINGS    OK  NO, package depends on 'SummarizedExperiment' which is not available
merida1macOS 10.14.6 Mojave / x86_64  OK    OK    WARNINGS    OK  UNNEEDED, same version is already published

Summary

Package: omicsPrint
Version: 1.15.1
Command: rm -rf omicsPrint.buildbin-libdir && mkdir omicsPrint.buildbin-libdir && D:\biocbuild\bbs-3.15-bioc\R\bin\R.exe CMD INSTALL --build --library=omicsPrint.buildbin-libdir omicsPrint_1.15.1.tar.gz
StartedAt: 2022-01-20 21:08:34 -0500 (Thu, 20 Jan 2022)
EndedAt: 2022-01-20 21:09:36 -0500 (Thu, 20 Jan 2022)
EllapsedTime: 61.9 seconds
RetCode: 0
Status:   OK  
PackageFile: omicsPrint_1.15.1.zip
PackageFileSize: 7.644 MiB

Command output

##############################################################################
##############################################################################
###
### Running command:
###
###   rm -rf omicsPrint.buildbin-libdir && mkdir omicsPrint.buildbin-libdir && D:\biocbuild\bbs-3.15-bioc\R\bin\R.exe CMD INSTALL --build --library=omicsPrint.buildbin-libdir omicsPrint_1.15.1.tar.gz
###
##############################################################################
##############################################################################


* installing *source* package 'omicsPrint' ...
** using staged installation
** R
** data
*** moving datasets to lazyload DB
** inst
** byte-compile and prepare package for lazy loading
** help
*** installing help indices
  converting help for package 'omicsPrint'
    finding HTML links ... done
    alleleSharing                           html  
    beta2genotype                           html  
    hg19.GoNLsnps                           html  
    hm450.manifest.pop.GoNL                 html  
    inferRelations                          html  
** building package indices
** installing vignettes
** testing if installed package can be loaded from temporary location
** testing if installed package can be loaded from final location
** testing if installed package keeps a record of temporary installation path
* MD5 sums
packaged installation of 'omicsPrint' as omicsPrint_1.15.1.zip
* DONE (omicsPrint)