Back to Multiple platform build/check report for BioC 3.15
ABCDEFGHIJKLMN[O]PQRSTUVWXYZ

This page was generated on 2021-11-30 13:55:04 -0500 (Tue, 30 Nov 2021).

INSTALL results for omicRexposome on riesling1

To the developers/maintainers of the omicRexposome package:
- Please allow up to 24 hours (and sometimes 48 hours) for your latest push to git@git.bioconductor.org:packages/omicRexposome.git to
reflect on this report. See How and When does the builder pull? When will my changes propagate? here for more information.
- Make sure to use the following settings in order to reproduce any error or warning you see on this page.

raw results

Package 1315/2068HostnameOS / ArchINSTALLBUILDCHECKBUILD BIN
omicRexposome 1.17.1  (landing page)
Xavier EscribĂ  Montagut
Snapshot Date: 2021-11-29 14:50:17 -0500 (Mon, 29 Nov 2021)
git_url: https://git.bioconductor.org/packages/omicRexposome
git_branch: master
git_last_commit: 92561ba
git_last_commit_date: 2021-11-21 00:39:38 -0500 (Sun, 21 Nov 2021)
nebbiolo1Linux (Ubuntu 20.04.3 LTS) / x86_64  OK    ERROR  skipped
riesling1Windows Server 2019 Standard / x64  OK    ERROR  skippedskipped
merida1macOS 10.14.6 Mojave / x86_64  OK    OK    OK    OK  UNNEEDED, same version is already published

Summary

Package: omicRexposome
Version: 1.17.1
Command: C:\cygwin\bin\curl.exe -O http://155.52.207.165/BBS/3.15/bioc/src/contrib/omicRexposome_1.17.1.tar.gz && rm -rf omicRexposome.buildbin-libdir && mkdir omicRexposome.buildbin-libdir && D:\biocbuild\bbs-3.15-bioc\R\bin\R.exe CMD INSTALL --merge-multiarch --build --library=omicRexposome.buildbin-libdir omicRexposome_1.17.1.tar.gz && D:\biocbuild\bbs-3.15-bioc\R\bin\R.exe CMD INSTALL omicRexposome_1.17.1.zip && rm omicRexposome_1.17.1.tar.gz omicRexposome_1.17.1.zip
StartedAt: 2021-11-29 18:57:51 -0500 (Mon, 29 Nov 2021)
EndedAt: 2021-11-29 19:00:55 -0500 (Mon, 29 Nov 2021)
EllapsedTime: 183.9 seconds
RetCode: 0
Status:   OK  

Command output

##############################################################################
##############################################################################
###
### Running command:
###
###   C:\cygwin\bin\curl.exe -O http://155.52.207.165/BBS/3.15/bioc/src/contrib/omicRexposome_1.17.1.tar.gz && rm -rf omicRexposome.buildbin-libdir && mkdir omicRexposome.buildbin-libdir && D:\biocbuild\bbs-3.15-bioc\R\bin\R.exe CMD INSTALL --merge-multiarch --build --library=omicRexposome.buildbin-libdir omicRexposome_1.17.1.tar.gz && D:\biocbuild\bbs-3.15-bioc\R\bin\R.exe CMD INSTALL omicRexposome_1.17.1.zip && rm omicRexposome_1.17.1.tar.gz omicRexposome_1.17.1.zip
###
##############################################################################
##############################################################################


  % Total    % Received % Xferd  Average Speed   Time    Time     Time  Current
                                 Dload  Upload   Total   Spent    Left  Speed

  0     0    0     0    0     0      0      0 --:--:-- --:--:-- --:--:--     0
 70 1351k   70  950k    0     0  1619k      0 --:--:-- --:--:-- --:--:-- 1619k
100 1351k  100 1351k    0     0  2151k      0 --:--:-- --:--:-- --:--:-- 2148k
only one architecture so ignoring '--merge-multiarch'
* installing *source* package 'omicRexposome' ...
** using staged installation
** R
** data
*** moving datasets to lazyload DB
** inst
** byte-compile and prepare package for lazy loading
** help
*** installing help indices
  converting help for package 'omicRexposome'
    finding HTML links ... done
    add_cls-methods                         html  
    finding level-2 HTML links ... done

    add_exp-methods                         html  
    asr                                     html  
    association-methods                     html  
    crossomics-methods                      html  
    crs                                     html  
    getIntegration-methods                  html  
    mds                                     html  
    omicRexposome                           html  
    plotAssociation-methods                 html  
    plotHits-methods                        html  
    plotIntegration-methods                 html  
    plotLambda-methods                      html  
    snpToContinuous                         html  
    tableHits-methods                       html  
    tableLambda-methods                     html  
** building package indices
** installing vignettes
** testing if installed package can be loaded from temporary location
** testing if installed package can be loaded from final location
** testing if installed package keeps a record of temporary installation path
* MD5 sums
packaged installation of 'omicRexposome' as omicRexposome_1.17.1.zip
* DONE (omicRexposome)
* installing to library 'D:/biocbuild/bbs-3.15-bioc/R/library'
package 'omicRexposome' successfully unpacked and MD5 sums checked