Name | Last modified | Size | Description | |
---|---|---|---|---|
Parent Directory | - | |||
buildbin-out.txt | 30-Apr-2024 00:38 | 5.2K | ||
buildbin-summary.dcf | 30-Apr-2024 00:38 | 503 | ||
buildsrc-out.txt | 30-Apr-2024 00:38 | 1.0K | ||
buildsrc-summary.dcf | 30-Apr-2024 00:38 | 443 | ||
checksrc-out.txt | 30-Apr-2024 00:38 | 7.1K | ||
checksrc-summary.dcf | 30-Apr-2024 00:38 | 445 | ||
install-out.txt | 30-Apr-2024 00:38 | 5.1K | ||
install-summary.dcf | 30-Apr-2024 00:38 | 264 | ||