Back to Multiple platform build/check report for BioC 3.16
ABCDEFGHIJKLMN[O]PQRSTUVWXYZ

This page was generated on 2022-06-24 11:06:53 -0400 (Fri, 24 Jun 2022).

HostnameOSArch (*)R versionInstalled pkgs
nebbiolo2Linux (Ubuntu 20.04.4 LTS)x86_644.2.0 Patched (2022-06-02 r82447) -- "Vigorous Calisthenics" 4331
palomino4Windows Server 2022 Datacenterx644.2.0 Patched (2022-06-02 r82447 ucrt) -- "Vigorous Calisthenics" 4136
lconwaymacOS 12.2.1 Montereyx86_644.2.0 Patched (2022-05-29 r82424) -- "Vigorous Calisthenics" 4147
Click on any hostname to see more info about the system (e.g. compilers)      (*) as reported by 'uname -p', except on Windows and Mac OS X

INSTALL results for oligo on palomino4


To the developers/maintainers of the oligo package:
- Please allow up to 24 hours (and sometimes 48 hours) for your latest push to git@git.bioconductor.org:packages/oligo.git to
reflect on this report. See How and When does the builder pull? When will my changes propagate? for more information.
- Make sure to use the following settings in order to reproduce any error or warning you see on this page.

raw results

Package 1339/2118HostnameOS / ArchINSTALLBUILDCHECKBUILD BIN
oligo 1.61.0  (landing page)
Benilton Carvalho
Snapshot Date: 2022-06-23 14:00:04 -0400 (Thu, 23 Jun 2022)
git_url: https://git.bioconductor.org/packages/oligo
git_branch: master
git_last_commit: d4b4e9e
git_last_commit_date: 2022-04-26 10:57:15 -0400 (Tue, 26 Apr 2022)
nebbiolo2Linux (Ubuntu 20.04.4 LTS) / x86_64  OK    OK    WARNINGS  UNNEEDED, same version is already published
palomino4Windows Server 2022 Datacenter / x64  OK    OK    WARNINGS    OK  UNNEEDED, same version is already published
lconwaymacOS 12.2.1 Monterey / x86_64  OK    OK    WARNINGS    OK  UNNEEDED, same version is already published

Summary

Package: oligo
Version: 1.61.0
Command: C:\cygwin\bin\curl.exe -O http://155.52.207.166/BBS/3.16/bioc/src/contrib/oligo_1.61.0.tar.gz && rm -rf oligo.buildbin-libdir && mkdir oligo.buildbin-libdir && F:\biocbuild\bbs-3.16-bioc\R\bin\R.exe CMD INSTALL --merge-multiarch --build --library=oligo.buildbin-libdir oligo_1.61.0.tar.gz && F:\biocbuild\bbs-3.16-bioc\R\bin\R.exe CMD INSTALL oligo_1.61.0.zip && rm oligo_1.61.0.tar.gz oligo_1.61.0.zip
StartedAt: 2022-06-23 15:53:51 -0400 (Thu, 23 Jun 2022)
EndedAt: 2022-06-23 15:54:58 -0400 (Thu, 23 Jun 2022)
EllapsedTime: 66.8 seconds
RetCode: 0
Status:   OK  

Command output

##############################################################################
##############################################################################
###
### Running command:
###
###   C:\cygwin\bin\curl.exe -O http://155.52.207.166/BBS/3.16/bioc/src/contrib/oligo_1.61.0.tar.gz && rm -rf oligo.buildbin-libdir && mkdir oligo.buildbin-libdir && F:\biocbuild\bbs-3.16-bioc\R\bin\R.exe CMD INSTALL --merge-multiarch --build --library=oligo.buildbin-libdir oligo_1.61.0.tar.gz && F:\biocbuild\bbs-3.16-bioc\R\bin\R.exe CMD INSTALL oligo_1.61.0.zip && rm oligo_1.61.0.tar.gz oligo_1.61.0.zip
###
##############################################################################
##############################################################################


  % Total    % Received % Xferd  Average Speed   Time    Time     Time  Current
                                 Dload  Upload   Total   Spent    Left  Speed

  0     0    0     0    0     0      0      0 --:--:-- --:--:-- --:--:--     0
 71 14.9M   71 10.6M    0     0  12.8M      0  0:00:01 --:--:--  0:00:01 12.8M
100 14.9M  100 14.9M    0     0  13.7M      0  0:00:01  0:00:01 --:--:-- 13.7M
only one architecture so ignoring '--merge-multiarch'
* installing *source* package 'oligo' ...
** using staged installation
** libs
gcc  -I"F:/biocbuild/bbs-3.16-bioc/R/library/zlibbioc/include" -I"F:/biocbuild/bbs-3.16-bioc/R/include" -DNDEBUG  -I'F:/biocbuild/bbs-3.16-bioc/R/library/preprocessCore/include'   -I"C:/rtools42/x86_64-w64-mingw32.static.posix/include"     -O2 -Wall  -std=gnu99 -mfpmath=sse -msse2 -mstackrealign  -c DABG.c -o DABG.o
gcc  -I"F:/biocbuild/bbs-3.16-bioc/R/library/zlibbioc/include" -I"F:/biocbuild/bbs-3.16-bioc/R/include" -DNDEBUG  -I'F:/biocbuild/bbs-3.16-bioc/R/library/preprocessCore/include'   -I"C:/rtools42/x86_64-w64-mingw32.static.posix/include"     -O2 -Wall  -std=gnu99 -mfpmath=sse -msse2 -mstackrealign  -c ParserGzXYS.c -o ParserGzXYS.o
gcc  -I"F:/biocbuild/bbs-3.16-bioc/R/library/zlibbioc/include" -I"F:/biocbuild/bbs-3.16-bioc/R/include" -DNDEBUG  -I'F:/biocbuild/bbs-3.16-bioc/R/library/preprocessCore/include'   -I"C:/rtools42/x86_64-w64-mingw32.static.posix/include"     -O2 -Wall  -std=gnu99 -mfpmath=sse -msse2 -mstackrealign  -c ParserXYS.c -o ParserXYS.o
gcc  -I"F:/biocbuild/bbs-3.16-bioc/R/library/zlibbioc/include" -I"F:/biocbuild/bbs-3.16-bioc/R/include" -DNDEBUG  -I'F:/biocbuild/bbs-3.16-bioc/R/library/preprocessCore/include'   -I"C:/rtools42/x86_64-w64-mingw32.static.posix/include"     -O2 -Wall  -std=gnu99 -mfpmath=sse -msse2 -mstackrealign  -c baseProfile.c -o baseProfile.o
gcc  -I"F:/biocbuild/bbs-3.16-bioc/R/library/zlibbioc/include" -I"F:/biocbuild/bbs-3.16-bioc/R/include" -DNDEBUG  -I'F:/biocbuild/bbs-3.16-bioc/R/library/preprocessCore/include'   -I"C:/rtools42/x86_64-w64-mingw32.static.posix/include"     -O2 -Wall  -std=gnu99 -mfpmath=sse -msse2 -mstackrealign  -c basecontent.c -o basecontent.o
gcc  -I"F:/biocbuild/bbs-3.16-bioc/R/library/zlibbioc/include" -I"F:/biocbuild/bbs-3.16-bioc/R/include" -DNDEBUG  -I'F:/biocbuild/bbs-3.16-bioc/R/library/preprocessCore/include'   -I"C:/rtools42/x86_64-w64-mingw32.static.posix/include"     -O2 -Wall  -std=gnu99 -mfpmath=sse -msse2 -mstackrealign  -c chipbackground.c -o chipbackground.o
gcc  -I"F:/biocbuild/bbs-3.16-bioc/R/library/zlibbioc/include" -I"F:/biocbuild/bbs-3.16-bioc/R/include" -DNDEBUG  -I'F:/biocbuild/bbs-3.16-bioc/R/library/preprocessCore/include'   -I"C:/rtools42/x86_64-w64-mingw32.static.posix/include"     -O2 -Wall  -std=gnu99 -mfpmath=sse -msse2 -mstackrealign  -c mas5calls.c -o mas5calls.o
gcc  -I"F:/biocbuild/bbs-3.16-bioc/R/library/zlibbioc/include" -I"F:/biocbuild/bbs-3.16-bioc/R/include" -DNDEBUG  -I'F:/biocbuild/bbs-3.16-bioc/R/library/preprocessCore/include'   -I"C:/rtools42/x86_64-w64-mingw32.static.posix/include"     -O2 -Wall  -std=gnu99 -mfpmath=sse -msse2 -mstackrealign  -c rma2.c -o rma2.o
gcc  -I"F:/biocbuild/bbs-3.16-bioc/R/library/zlibbioc/include" -I"F:/biocbuild/bbs-3.16-bioc/R/include" -DNDEBUG  -I'F:/biocbuild/bbs-3.16-bioc/R/library/preprocessCore/include'   -I"C:/rtools42/x86_64-w64-mingw32.static.posix/include"     -O2 -Wall  -std=gnu99 -mfpmath=sse -msse2 -mstackrealign  -c rma_common.c -o rma_common.o
gcc  -I"F:/biocbuild/bbs-3.16-bioc/R/library/zlibbioc/include" -I"F:/biocbuild/bbs-3.16-bioc/R/include" -DNDEBUG  -I'F:/biocbuild/bbs-3.16-bioc/R/library/preprocessCore/include'   -I"C:/rtools42/x86_64-w64-mingw32.static.posix/include"     -O2 -Wall  -std=gnu99 -mfpmath=sse -msse2 -mstackrealign  -c trimmed.c -o trimmed.o
gcc -shared -s -static-libgcc -o oligo.dll tmp.def DABG.o ParserGzXYS.o ParserXYS.o baseProfile.o basecontent.o chipbackground.o mas5calls.o rma2.o rma_common.o trimmed.o -lgfortran -lm -lquadmath -LF:/biocbuild/bbs-3.16-bioc/R/bin/x64 -lRlapack -LF:/biocbuild/bbs-3.16-bioc/R/bin/x64 -lRblas -LF:/biocbuild/bbs-3.16-bioc/R/library/zlibbioc/libs/x64 -lzlib1bioc -LC:/rtools42/x86_64-w64-mingw32.static.posix/lib/x64 -LC:/rtools42/x86_64-w64-mingw32.static.posix/lib -LF:/biocbuild/bbs-3.16-bioc/R/bin/x64 -lR
installing to F:/biocbuild/bbs-3.16-bioc/meat/oligo.buildbin-libdir/00LOCK-oligo/00new/oligo/libs/x64
** R
** inst
** byte-compile and prepare package for lazy loading
Note: in method for 'pm<-' with signature
'object="TilingFeatureSet",subset="ANY",target="ANY",value="array"':
expanding the signature to include omitted arguments in definition:
subset = "missing", target = "missing"
Note: in method for 'mm<-' with signature
'object="TilingFeatureSet",subset="ANY",target="ANY",value="array"':
expanding the signature to include omitted arguments in definition:
subset = "missing", target = "missing"
** help
*** installing help indices
** building package indices
** installing vignettes
** testing if installed package can be loaded from temporary location
** testing if installed package can be loaded from final location
** testing if installed package keeps a record of temporary installation path
* MD5 sums
packaged installation of 'oligo' as oligo_1.61.0.zip
* DONE (oligo)
* installing to library 'F:/biocbuild/bbs-3.16-bioc/R/library'
package 'oligo' successfully unpacked and MD5 sums checked