Index of /checkResults/devel/bioc-LATEST/odseq/raw-results/lconway

[ICO]NameLast modifiedSizeDescription

[DIR]Parent Directory  -  
[TXT]buildbin-out.txt13-Aug-2022 00:08 1.2K 
[   ]buildbin-summary.dcf13-Aug-2022 00:08 518  
[TXT]buildsrc-out.txt13-Aug-2022 00:08 840  
[   ]buildsrc-summary.dcf13-Aug-2022 00:08 421  
[TXT]checksrc-out.txt13-Aug-2022 00:08 3.3K 
[   ]checksrc-summary.dcf13-Aug-2022 00:08 436  
[TXT]install-out.txt13-Aug-2022 00:08 1.0K 
[   ]install-summary.dcf13-Aug-2022 00:08 265