Index of /checkResults/devel/bioc-LATEST/odseq/raw-results
Name
Last modified
Size
Description
Parent Directory
-
info.dcf
18-May-2022 00:08
263
lconway/
18-May-2022 00:08
-
nebbiolo2/
18-May-2022 00:05
-
palomino4/
18-May-2022 00:07
-