Back to Multiple platform build/check report for BioC 3.17
ABCDEFGHIJKLMN[O]PQRSTUVWXYZ

This page was generated on 2022-12-06 11:06:19 -0500 (Tue, 06 Dec 2022).

HostnameOSArch (*)R versionInstalled pkgs
nebbiolo1Linux (Ubuntu 22.04.1 LTS)x86_64R Under development (unstable) (2022-11-30 r83393) -- "Unsuffered Consequences" 4277
palomino3Windows Server 2022 Datacenterx64R Under development (unstable) (2022-11-30 r83393 ucrt) -- "Unsuffered Consequences" 4193
merida1macOS 10.14.6 Mojavex86_64R Under development (unstable) (2022-11-30 r83393) -- "Unsuffered Consequences" 4236
Click on any hostname to see more info about the system (e.g. compilers)      (*) as reported by 'uname -p', except on Windows and Mac OS X

BUILD results for odseq on nebbiolo1


To the developers/maintainers of the odseq package:
- Please allow up to 24 hours (and sometimes 48 hours) for your latest push to git@git.bioconductor.org:packages/odseq.git to
reflect on this report. See How and When does the builder pull? When will my changes propagate? for more information.
- Make sure to use the following settings in order to reproduce any error or warning you see on this page.

raw results

Package 1360/2155HostnameOS / ArchINSTALLBUILDCHECKBUILD BIN
odseq 1.27.0  (landing page)
José Jiménez
Snapshot Date: 2022-12-05 14:00:11 -0500 (Mon, 05 Dec 2022)
git_url: https://git.bioconductor.org/packages/odseq
git_branch: master
git_last_commit: 1ed936f
git_last_commit_date: 2022-11-01 11:13:27 -0500 (Tue, 01 Nov 2022)
nebbiolo1Linux (Ubuntu 22.04.1 LTS) / x86_64  OK    OK    OK  UNNEEDED, same version is already published
palomino3Windows Server 2022 Datacenter / x64  OK    OK    OK    OK  UNNEEDED, same version is already published
merida1macOS 10.14.6 Mojave / x86_64  OK    OK    OK    OK  UNNEEDED, same version is already published

Summary

Package: odseq
Version: 1.27.0
Command: /home/biocbuild/bbs-3.17-bioc/R/bin/R CMD build --keep-empty-dirs --no-resave-data odseq
StartedAt: 2022-12-05 17:11:21 -0500 (Mon, 05 Dec 2022)
EndedAt: 2022-12-05 17:12:03 -0500 (Mon, 05 Dec 2022)
EllapsedTime: 41.9 seconds
RetCode: 0
Status:   OK  
PackageFile: odseq_1.27.0.tar.gz
PackageFileSize: 229.8 KiB

Command output

##############################################################################
##############################################################################
###
### Running command:
###
###   /home/biocbuild/bbs-3.17-bioc/R/bin/R CMD build --keep-empty-dirs --no-resave-data odseq
###
##############################################################################
##############################################################################


* checking for file ‘odseq/DESCRIPTION’ ... OK
* preparing ‘odseq’:
* checking DESCRIPTION meta-information ... OK
* installing the package to process help pages
* saving partial Rd database
* creating vignettes ... OK
* checking for LF line-endings in source and make files and shell scripts
* checking for empty or unneeded directories
* building ‘odseq_1.27.0.tar.gz’