Name | Last modified | Size | Description | |
---|---|---|---|---|
Parent Directory | - | |||
buildsrc-out.txt | 09-Jul-2024 00:45 | 948 | ||
buildsrc-summary.dcf | 09-Jul-2024 00:45 | 398 | ||
checksrc-out.txt | 09-Jul-2024 00:45 | 4.6K | ||
checksrc-summary.dcf | 09-Jul-2024 00:45 | 395 | ||
install-out.txt | 07-Jul-2024 00:44 | 936 | ||
install-summary.dcf | 07-Jul-2024 00:44 | 242 | ||