Back to Multiple platform build/check report for BioC 3.13
ABCDEFGHIJKLM[N]OPQRSTUVWXYZ

BUILD report for nuCpos on tokay2

This page was generated on 2021-01-25 12:37:03 -0500 (Mon, 25 Jan 2021).

TO THE DEVELOPERS/MAINTAINERS OF THE nuCpos PACKAGE: Please make sure to use the following settings in order to reproduce any error or warning you see on this page.
Package 1214/1938HostnameOS / ArchINSTALLBUILDCHECKBUILD BIN
nuCpos 1.9.0
Hiroaki Kato
Snapshot Date: 2021-01-24 14:40:26 -0500 (Sun, 24 Jan 2021)
URL: https://git.bioconductor.org/packages/nuCpos
Branch: master
Last Commit: 3d552b8
Last Changed Date: 2020-10-27 11:37:59 -0500 (Tue, 27 Oct 2020)
malbec2 Linux (Ubuntu 20.04.1 LTS) / x86_64  OK  OK  OK UNNEEDED, same version exists in internal repository
tokay2 Windows Server 2012 R2 Standard / x64  OK [ OK ] WARNINGS  OK UNNEEDED, same version exists in internal repository
riesling1 Windows Server 2019 Standard / x64  OK  OK  WARNINGS  OK 
machv2 macOS 10.14.6 Mojave / x86_64  OK  OK  OK  OK UNNEEDED, same version exists in internal repository

Summary

Package: nuCpos
Version: 1.9.0
Command: chmod a+r nuCpos -R && C:\Users\biocbuild\bbs-3.13-bioc\R\bin\R.exe CMD build --keep-empty-dirs --no-resave-data nuCpos
StartedAt: 2021-01-24 23:38:59 -0500 (Sun, 24 Jan 2021)
EndedAt: 2021-01-24 23:39:22 -0500 (Sun, 24 Jan 2021)
EllapsedTime: 23.6 seconds
RetCode: 0
Status:  OK  
PackageFile: nuCpos_1.9.0.tar.gz
PackageFileSize: 1.122 MiB

Command output

##############################################################################
##############################################################################
###
### Running command:
###
###   chmod a+r nuCpos -R && C:\Users\biocbuild\bbs-3.13-bioc\R\bin\R.exe CMD build --keep-empty-dirs --no-resave-data nuCpos
###
##############################################################################
##############################################################################


* checking for file 'nuCpos/DESCRIPTION' ... OK
* preparing 'nuCpos':
* checking DESCRIPTION meta-information ... OK
* cleaning src
* installing the package to build vignettes
* creating vignettes ... OK
* cleaning src
* checking for LF line-endings in source and make files and shell scripts
* checking for empty or unneeded directories
* looking to see if a 'data/datalist' file should be added
* building 'nuCpos_1.9.0.tar.gz'