Back to Multiple platform build/check report for BioC 3.13
ABCDEFGHIJKLM[N]OPQRSTUVWXYZ

BUILD BIN report for nuCpos on tokay2

This page was generated on 2021-01-25 12:37:03 -0500 (Mon, 25 Jan 2021).

TO THE DEVELOPERS/MAINTAINERS OF THE nuCpos PACKAGE: Please make sure to use the following settings in order to reproduce any error or warning you see on this page.
Package 1214/1938HostnameOS / ArchINSTALLBUILDCHECKBUILD BIN
nuCpos 1.9.0
Hiroaki Kato
Snapshot Date: 2021-01-24 14:40:26 -0500 (Sun, 24 Jan 2021)
URL: https://git.bioconductor.org/packages/nuCpos
Branch: master
Last Commit: 3d552b8
Last Changed Date: 2020-10-27 11:37:59 -0500 (Tue, 27 Oct 2020)
malbec2 Linux (Ubuntu 20.04.1 LTS) / x86_64  OK  OK  OK UNNEEDED, same version exists in internal repository
tokay2 Windows Server 2012 R2 Standard / x64  OK  OK  WARNINGS [ OK ]UNNEEDED, same version exists in internal repository
riesling1 Windows Server 2019 Standard / x64  OK  OK  WARNINGS  OK 
machv2 macOS 10.14.6 Mojave / x86_64  OK  OK  OK  OK UNNEEDED, same version exists in internal repository

Summary

Package: nuCpos
Version: 1.9.0
Command: rm -rf nuCpos.buildbin-libdir && mkdir nuCpos.buildbin-libdir && C:\Users\biocbuild\bbs-3.13-bioc\R\bin\R.exe CMD INSTALL --merge-multiarch --build --library=nuCpos.buildbin-libdir nuCpos_1.9.0.tar.gz
StartedAt: 2021-01-25 11:53:25 -0500 (Mon, 25 Jan 2021)
EndedAt: 2021-01-25 11:54:14 -0500 (Mon, 25 Jan 2021)
EllapsedTime: 49.1 seconds
RetCode: 0
Status:  OK  
PackageFile: nuCpos_1.9.0.zip
PackageFileSize: 1.562 MiB

Command output

##############################################################################
##############################################################################
###
### Running command:
###
###   rm -rf nuCpos.buildbin-libdir && mkdir nuCpos.buildbin-libdir && C:\Users\biocbuild\bbs-3.13-bioc\R\bin\R.exe CMD INSTALL --merge-multiarch --build --library=nuCpos.buildbin-libdir nuCpos_1.9.0.tar.gz
###
##############################################################################
##############################################################################



install for i386

* installing *source* package 'nuCpos' ...
** using staged installation
** libs
"C:/rtools40/mingw32/bin/"gfortran  -fno-optimize-sibling-calls    -O2  -mfpmath=sse -msse2 -mstackrealign  -c  HBA_3.f90 -o HBA_3.o
"C:/rtools40/mingw32/bin/"gcc  -I"C:/Users/BIOCBU~1/BBS-3~1.13-/R/include" -DNDEBUG     -I"C:/extsoft/include"     -O2 -Wall  -std=gnu99 -mfpmath=sse -msse2 -mstackrealign  -c R_init_nuCpos.c -o R_init_nuCpos.o
"C:/rtools40/mingw32/bin/"gfortran  -fno-optimize-sibling-calls    -O2  -mfpmath=sse -msse2 -mstackrealign  -c  localHBA_3.f90 -o localHBA_3.o
"C:/rtools40/mingw32/bin/"gfortran  -fno-optimize-sibling-calls    -O2  -mfpmath=sse -msse2 -mstackrealign  -c  nuCpos2_1.f90 -o nuCpos2_1.o
"C:/rtools40/mingw32/bin/"gfortran  -fno-optimize-sibling-calls    -O2  -mfpmath=sse -msse2 -mstackrealign  -c  nuCpos2_2.f90 -o nuCpos2_2.o
"C:/rtools40/mingw32/bin/"gfortran  -fno-optimize-sibling-calls    -O2  -mfpmath=sse -msse2 -mstackrealign  -c  nuCpos_1.f90 -o nuCpos_1.o
"C:/rtools40/mingw32/bin/"gfortran  -fno-optimize-sibling-calls    -O2  -mfpmath=sse -msse2 -mstackrealign  -c  nuCpos_2.f90 -o nuCpos_2.o
C:/rtools40/mingw32/bin/gcc -shared -s -static-libgcc -o nuCpos.dll tmp.def HBA_3.o R_init_nuCpos.o localHBA_3.o nuCpos2_1.o nuCpos2_2.o nuCpos_1.o nuCpos_2.o -LC:/extsoft/lib/i386 -LC:/extsoft/lib -lgfortran -lm -lquadmath -LC:/Users/BIOCBU~1/BBS-3~1.13-/R/bin/i386 -lR
installing to C:/Users/biocbuild/bbs-3.13-bioc/meat/nuCpos.buildbin-libdir/00LOCK-nuCpos/00new/nuCpos/libs/i386
** R
** inst
** byte-compile and prepare package for lazy loading
** help
*** installing help indices
  converting help for package 'nuCpos'
    finding HTML links ... done
    HBA                                     html  
REDIRECT:topic	 HBA -> HBA.html [ SUCCESS ]
    localHBA                                html  
REDIRECT:topic	 localHBA -> localHBA.html [ SUCCESS ]
    mutNuCpos                               html  
REDIRECT:topic	 mutNuCpos -> mutNuCpos.html [ SUCCESS ]
    nuCpos-package                          html  
REDIRECT:topic	 nuCpos-package -> nuCpos-package.html [ SUCCESS ]
REDIRECT:topic	 nuCpos -> nuCpos-package.html [ SUCCESS ]
    predNuCpos                              html  
REDIRECT:topic	 predNuCpos -> predNuCpos.html [ SUCCESS ]
** building package indices
** installing vignettes
** testing if installed package can be loaded from temporary location
** testing if installed package can be loaded from final location
** testing if installed package keeps a record of temporary installation path

install for x64

* installing *source* package 'nuCpos' ...
** libs
"C:/rtools40/mingw64/bin/"gfortran  -fno-optimize-sibling-calls    -O2  -mfpmath=sse -msse2 -mstackrealign  -c  HBA_3.f90 -o HBA_3.o
"C:/rtools40/mingw64/bin/"gcc  -I"C:/Users/BIOCBU~1/BBS-3~1.13-/R/include" -DNDEBUG     -I"C:/extsoft/include"     -O2 -Wall  -std=gnu99 -mfpmath=sse -msse2 -mstackrealign  -c R_init_nuCpos.c -o R_init_nuCpos.o
"C:/rtools40/mingw64/bin/"gfortran  -fno-optimize-sibling-calls    -O2  -mfpmath=sse -msse2 -mstackrealign  -c  localHBA_3.f90 -o localHBA_3.o
"C:/rtools40/mingw64/bin/"gfortran  -fno-optimize-sibling-calls    -O2  -mfpmath=sse -msse2 -mstackrealign  -c  nuCpos2_1.f90 -o nuCpos2_1.o
"C:/rtools40/mingw64/bin/"gfortran  -fno-optimize-sibling-calls    -O2  -mfpmath=sse -msse2 -mstackrealign  -c  nuCpos2_2.f90 -o nuCpos2_2.o
"C:/rtools40/mingw64/bin/"gfortran  -fno-optimize-sibling-calls    -O2  -mfpmath=sse -msse2 -mstackrealign  -c  nuCpos_1.f90 -o nuCpos_1.o
"C:/rtools40/mingw64/bin/"gfortran  -fno-optimize-sibling-calls    -O2  -mfpmath=sse -msse2 -mstackrealign  -c  nuCpos_2.f90 -o nuCpos_2.o
C:/rtools40/mingw64/bin/gcc -shared -s -static-libgcc -o nuCpos.dll tmp.def HBA_3.o R_init_nuCpos.o localHBA_3.o nuCpos2_1.o nuCpos2_2.o nuCpos_1.o nuCpos_2.o -LC:/extsoft/lib/x64 -LC:/extsoft/lib -lgfortran -lm -lquadmath -LC:/Users/BIOCBU~1/BBS-3~1.13-/R/bin/x64 -lR
installing to C:/Users/biocbuild/bbs-3.13-bioc/meat/nuCpos.buildbin-libdir/nuCpos/libs/x64
** testing if installed package can be loaded
* MD5 sums
packaged installation of 'nuCpos' as nuCpos_1.9.0.zip
* DONE (nuCpos)