Back to Multiple platform build/check report for BioC 3.13
ABCDEFGHIJKLM[N]OPQRSTUVWXYZ

INSTALL report for nuCpos on malbec2

This page was generated on 2021-01-24 12:31:03 -0500 (Sun, 24 Jan 2021).

TO THE DEVELOPERS/MAINTAINERS OF THE nuCpos PACKAGE: Please make sure to use the following settings in order to reproduce any error or warning you see on this page.
Package 1211/1932HostnameOS / ArchINSTALLBUILDCHECKBUILD BIN
nuCpos 1.9.0
Hiroaki Kato
Snapshot Date: 2021-01-23 14:40:18 -0500 (Sat, 23 Jan 2021)
URL: https://git.bioconductor.org/packages/nuCpos
Branch: master
Last Commit: 3d552b8
Last Changed Date: 2020-10-27 11:37:59 -0500 (Tue, 27 Oct 2020)
malbec2 Linux (Ubuntu 20.04.1 LTS) / x86_64 [ OK ] OK  OK UNNEEDED, same version exists in internal repository
tokay2 Windows Server 2012 R2 Standard / x64  OK  OK  WARNINGS  OK UNNEEDED, same version exists in internal repository
riesling1 Windows Server 2019 Standard / x64  OK  OK  WARNINGS  OK 
machv2 macOS 10.14.6 Mojave / x86_64  OK  OK  OK  OK UNNEEDED, same version exists in internal repository

Summary

Package: nuCpos
Version: 1.9.0
Command: /home/biocbuild/bbs-3.13-bioc/R/bin/R CMD INSTALL nuCpos
StartedAt: 2021-01-23 16:01:16 -0500 (Sat, 23 Jan 2021)
EndedAt: 2021-01-23 16:01:25 -0500 (Sat, 23 Jan 2021)
EllapsedTime: 9.0 seconds
RetCode: 0
Status:  OK 

Command output

##############################################################################
##############################################################################
###
### Running command:
###
###   /home/biocbuild/bbs-3.13-bioc/R/bin/R CMD INSTALL nuCpos
###
##############################################################################
##############################################################################


* installing to library ‘/home/biocbuild/bbs-3.13-bioc/R/library’
* installing *source* package ‘nuCpos’ ...
** using staged installation
** libs
gfortran -fno-optimize-sibling-calls  -fpic  -g -O2  -c  HBA_3.f90 -o HBA_3.o
gcc -I"/home/biocbuild/bbs-3.13-bioc/R/include" -DNDEBUG   -I/usr/local/include   -fpic  -g -O2  -Wall -c R_init_nuCpos.c -o R_init_nuCpos.o
gfortran -fno-optimize-sibling-calls  -fpic  -g -O2  -c  localHBA_3.f90 -o localHBA_3.o
gfortran -fno-optimize-sibling-calls  -fpic  -g -O2  -c  nuCpos2_1.f90 -o nuCpos2_1.o
gfortran -fno-optimize-sibling-calls  -fpic  -g -O2  -c  nuCpos2_2.f90 -o nuCpos2_2.o
gfortran -fno-optimize-sibling-calls  -fpic  -g -O2  -c  nuCpos_1.f90 -o nuCpos_1.o
gfortran -fno-optimize-sibling-calls  -fpic  -g -O2  -c  nuCpos_2.f90 -o nuCpos_2.o
gcc -shared -L/home/biocbuild/bbs-3.13-bioc/R/lib -L/usr/local/lib -o nuCpos.so HBA_3.o R_init_nuCpos.o localHBA_3.o nuCpos2_1.o nuCpos2_2.o nuCpos_1.o nuCpos_2.o -lgfortran -lm -lquadmath -L/home/biocbuild/bbs-3.13-bioc/R/lib -lR
installing to /home/biocbuild/bbs-3.13-bioc/R/library/00LOCK-nuCpos/00new/nuCpos/libs
** R
** inst
** byte-compile and prepare package for lazy loading
** help
*** installing help indices
** building package indices
** installing vignettes
** testing if installed package can be loaded from temporary location
** checking absolute paths in shared objects and dynamic libraries
** testing if installed package can be loaded from final location
** testing if installed package keeps a record of temporary installation path
* DONE (nuCpos)