Index of /checkResults/devel/bioc-LATEST/normalize450K/raw-results/lconway

[ICO]NameLast modifiedSizeDescription

[DIR]Parent Directory  -  
[TXT]buildbin-out.txt23-Jul-2024 01:45 1.2K 
[   ]buildbin-summary.dcf23-Jul-2024 01:45 566  
[TXT]buildsrc-out.txt23-Jul-2024 01:45 903  
[   ]buildsrc-summary.dcf23-Jul-2024 01:45 445  
[TXT]checksrc-out.txt23-Jul-2024 01:45 3.6K 
[   ]checksrc-summary.dcf23-Jul-2024 01:45 467  
[TXT]install-out.txt23-Jul-2024 01:45 1.0K 
[   ]install-summary.dcf23-Jul-2024 01:45 281