Index of /checkResults/devel/bioc-LATEST/normalize450K/raw-results/kjohnson3

[ICO]NameLast modifiedSizeDescription

[DIR]Parent Directory  -  
[TXT]buildbin-out.txt17-Jul-2024 00:43 1.2K 
[   ]buildbin-summary.dcf17-Jul-2024 00:43 565  
[TXT]buildsrc-out.txt17-Jul-2024 00:43 903  
[   ]buildsrc-summary.dcf17-Jul-2024 00:43 445  
[TXT]checksrc-out.txt17-Jul-2024 00:43 3.6K 
[   ]checksrc-summary.dcf17-Jul-2024 00:43 467  
[TXT]install-out.txt17-Jul-2024 00:43 1.0K 
[   ]install-summary.dcf17-Jul-2024 00:43 280