Name | Last modified | Size | Description | |
---|---|---|---|---|
Parent Directory | - | |||
checksrc-out.txt | 12-Jun-2024 04:40 | 3.8K | ||
buildbin-out.txt | 12-Jun-2024 04:40 | 1.1K | ||
install-out.txt | 12-Jun-2024 04:40 | 1.0K | ||
buildsrc-out.txt | 12-Jun-2024 04:40 | 913 | ||
buildbin-summary.dcf | 12-Jun-2024 04:40 | 531 | ||
buildsrc-summary.dcf | 12-Jun-2024 04:40 | 463 | ||
checksrc-summary.dcf | 12-Jun-2024 04:40 | 457 | ||
install-summary.dcf | 12-Jun-2024 04:40 | 273 | ||