Index of /checkResults/devel/bioc-LATEST/netresponse/raw-results
Name
Last modified
Size
Description
Parent Directory
-
info.dcf
12-Aug-2022 00:08
266
kjohnson/
12-Jul-2022 00:06
-
lconway/
12-Aug-2022 00:08
-
nebbiolo2/
12-Aug-2022 00:05
-
palomino4/
12-Aug-2022 00:07
-