Name | Last modified | Size | Description | |
---|---|---|---|---|
Parent Directory | - | |||
buildbin-out.txt | 17-Jul-2024 00:40 | 2.5K | ||
buildbin-summary.dcf | 17-Jul-2024 00:40 | 515 | ||
checksrc-summary.dcf | 17-Jul-2024 00:40 | 461 | ||
checksrc-out.txt | 17-Jul-2024 00:40 | 5.8K | ||
buildsrc-summary.dcf | 17-Jul-2024 00:40 | 453 | ||
buildsrc-out.txt | 17-Jul-2024 00:40 | 872 | ||
install-summary.dcf | 17-Jul-2024 00:40 | 272 | ||
install-out.txt | 17-Jul-2024 00:40 | 2.4K | ||