Name | Last modified | Size | Description | |
---|---|---|---|---|
Parent Directory | - | |||
install-summary.dcf | 27-Jul-2024 00:41 | 267 | ||
install-out.txt | 27-Jul-2024 00:41 | 2.7K | ||
buildsrc-summary.dcf | 27-Jul-2024 00:41 | 425 | ||
buildsrc-out.txt | 27-Jul-2024 00:41 | 842 | ||
checksrc-summary.dcf | 27-Jul-2024 00:41 | 446 | ||
checksrc-out.txt | 27-Jul-2024 00:41 | 5.3K | ||
buildbin-out.txt | 27-Jul-2024 00:41 | 4.5K | ||
buildbin-summary.dcf | 27-Jul-2024 00:41 | 524 | ||