Name | Last modified | Size | Description | |
---|---|---|---|---|
Parent Directory | - | |||
install-summary.dcf | 07-Jul-2024 00:44 | 245 | ||
install-out.txt | 07-Jul-2024 00:44 | 2.3K | ||
checksrc-summary.dcf | 09-Jul-2024 00:45 | 407 | ||
checksrc-out.txt | 09-Jul-2024 00:45 | 5.3K | ||
buildsrc-summary.dcf | 09-Jul-2024 00:45 | 403 | ||
buildsrc-out.txt | 09-Jul-2024 00:45 | 820 | ||