Back to Multiple platform build/check report for BioC 3.15
ABCDEFGHIJKLM[N]OPQRSTUVWXYZ

This page was generated on 2022-01-18 11:07:53 -0500 (Tue, 18 Jan 2022).

HostnameOSArch (*)R versionInstalled pkgs
nebbiolo1Linux (Ubuntu 20.04.4 LTS)x86_64R Under development (unstable) (2022-01-05 r81451) -- "Unsuffered Consequences" 4161
riesling1Windows Server 2019 Standardx64R Under development (unstable) (2021-11-21 r81221) -- "Unsuffered Consequences" 4056
palomino3Windows Server 2022 Datacenterx64R Under development (unstable) (2021-12-21 r81400 ucrt) -- "Unsuffered Consequences" 3998
merida1macOS 10.14.6 Mojavex86_64R Under development (unstable) (2022-01-05 r81451) -- "Unsuffered Consequences" 4115
Click on any hostname to see more info about the system (e.g. compilers)      (*) as reported by 'uname -p', except on Windows and Mac OS X

INSTALL results for netZooR on riesling1


To the developers/maintainers of the netZooR package:
- Please allow up to 24 hours (and sometimes 48 hours) for your latest push to git@git.bioconductor.org:packages/netZooR.git to
reflect on this report. See How and When does the builder pull? When will my changes propagate? here for more information.
- Make sure to use the following settings in order to reproduce any error or warning you see on this page.

raw results

Package 1287/2074HostnameOS / ArchINSTALLBUILDCHECKBUILD BIN
netZooR 0.99.85  (landing page)
Marouen Ben Guebila
Snapshot Date: 2022-01-17 13:55:17 -0500 (Mon, 17 Jan 2022)
git_url: https://git.bioconductor.org/packages/netZooR
git_branch: master
git_last_commit: 2baf915
git_last_commit_date: 2021-11-10 09:05:42 -0500 (Wed, 10 Nov 2021)
nebbiolo1Linux (Ubuntu 20.04.4 LTS) / x86_64  OK    OK    OK  UNNEEDED, same version is already published
riesling1Windows Server 2019 Standard / x64  OK    OK    OK    OK  
palomino3Windows Server 2022 Datacenter / x64  OK    OK    OK    OK  NO, package depends on 'pandaR' which is not available
merida1macOS 10.14.6 Mojave / x86_64  OK    OK    OK    OK  UNNEEDED, same version is already published

Summary

Package: netZooR
Version: 0.99.85
Command: D:\biocbuild\bbs-3.15-bioc\R\bin\R.exe CMD INSTALL netZooR
StartedAt: 2022-01-17 16:09:30 -0500 (Mon, 17 Jan 2022)
EndedAt: 2022-01-17 16:10:38 -0500 (Mon, 17 Jan 2022)
EllapsedTime: 68.7 seconds
RetCode: 0
Status:   OK  

Command output

##############################################################################
##############################################################################
###
### Running command:
###
###   D:\biocbuild\bbs-3.15-bioc\R\bin\R.exe CMD INSTALL netZooR
###
##############################################################################
##############################################################################


* installing to library 'D:/biocbuild/bbs-3.15-bioc/R/library'
* installing *source* package 'netZooR' ...
** using staged installation
** R
** data
** inst
** byte-compile and prepare package for lazy loading
** help
*** installing help indices
  converting help for package 'netZooR'
    finding HTML links ... done
    alpaca                                  html  
    alpacaCommunityStructureRotation        html  
    alpacaComputeDWBMmatmScale              html  
    alpacaComputeWBMmat                     html  
    alpacaDeltaZAnalysis                    html  
    alpacaDeltaZAnalysisLouvain             html  
    alpacaExtractTopGenes                   html  
    alpacaGOtabtogenes                      html  
    alpacaGenLouvain                        html  
    alpacaGoToGenes                         html  
    alpacaListToGo                          html  
    alpacaMetaNetwork                       html  
    alpacaNodeToGene                        html  
    alpacaRotationAnalysis                  html  
    alpacaRotationAnalysisLouvain           html  
    alpacaSimulateNetwork                   html  
    alpacaTestNodeRank                      html  
    alpacaTidyConfig                        html  
    alpacaTopEnsembltoTopSym                html  
    alpacaWBMlouvain                        html  
    condorCluster                           html  
    condorCoreEnrich                        html  
    condorMatrixModularity                  html  
    condorModularityMax                     html  
    condorPlotCommunities                   html  
    condorPlotHeatmap                       html  
    condorQscore                            html  
    createCondorObject                      html  
    createPandaStyle                        html  
    exon.size                               html  
    genes                                   html  
    lioness                                 html  
    lionessPy                               html  
    monster                                 html  
    monsterBereFull                         html  
    monsterCalculateTmPValues               html  
    monsterCheckDataType                    html  
    monsterGetTm                            html  
    monsterHclHeatmapPlot                   html  
    monsterMonsterNI                        html  
    monsterPlotMonsterAnalysis              html  
    monsterPrintMonsterAnalysis             html  
    monsterRes                              html  
    monsterTransformationMatrix             html  
    monsterTransitionNetworkPlot            html  
    monsterTransitionPCAPlot                html  
    monsterdTFIPlot                         html  
    mut.ucec                                html  
    otter                                   html  
    pandaPy                                 html  
    pandaToAlpaca                           html  
    pandaToCondorObject                     html  
    runEgret                                html  
    sambar                                  html  
    sambarConvertgmt                        html  
    sambarCorgenelength                     html  
    sambarDesparsify                        html  
    small1976                               html  
    sourcePPI                               html  
    visPandaInCytoscape                     html  
    yeast                                   html  
** building package indices
** installing vignettes
** testing if installed package can be loaded from temporary location
** testing if installed package can be loaded from final location
** testing if installed package keeps a record of temporary installation path
* DONE (netZooR)
Making 'packages.html' ... done