Name | Last modified | Size | Description | |
---|---|---|---|---|
Parent Directory | - | |||
buildbin-out.txt | 30-Apr-2024 00:38 | 1.1K | ||
buildbin-summary.dcf | 30-Apr-2024 00:38 | 510 | ||
buildsrc-out.txt | 30-Apr-2024 00:38 | 898 | ||
buildsrc-summary.dcf | 30-Apr-2024 00:38 | 450 | ||
checksrc-out.txt | 30-Apr-2024 00:38 | 4.7K | ||
checksrc-summary.dcf | 30-Apr-2024 00:38 | 445 | ||
install-out.txt | 30-Apr-2024 00:38 | 971 | ||
install-summary.dcf | 30-Apr-2024 00:38 | 267 | ||