Index of /checkResults/devel/bioc-LATEST/netOmics/raw-results/palomino6
Name
Last modified
Size
Description
Parent Directory
-
install-out.txt
17-Jul-2024 00:40
1.0K
install-summary.dcf
17-Jul-2024 00:40
276
buildsrc-out.txt
17-Jul-2024 00:40
1.0K
buildsrc-summary.dcf
17-Jul-2024 00:40
377