Index of /checkResults/devel/bioc-LATEST/netOmics/raw-results/palomino4
Name
Last modified
Size
Description
Parent Directory
-
install-summary.dcf
12-Jun-2024 04:40
270
install-out.txt
12-Jun-2024 04:40
1.0K
buildsrc-summary.dcf
12-Jun-2024 04:40
371
buildsrc-out.txt
12-Jun-2024 04:40
1.0K