Index of /checkResults/devel/bioc-LATEST/netOmics/raw-results/nebbiolo2
Name
Last modified
Size
Description
Parent Directory
-
install-summary.dcf
27-Jul-2024 00:38
261
install-out.txt
27-Jul-2024 00:38
963
buildsrc-summary.dcf
27-Jul-2024 00:38
341
buildsrc-out.txt
27-Jul-2024 00:38
1.0K