Index of /checkResults/devel/bioc-LATEST/netOmics/raw-results/merida1
Name
Last modified
Size
Description
Parent Directory
-
buildsrc-out.txt
12-Jun-2024 04:42
1.0K
buildsrc-summary.dcf
12-Jun-2024 04:42
345
install-out.txt
12-Jun-2024 04:42
1.0K
install-summary.dcf
12-Jun-2024 04:42
271