Index of /checkResults/devel/bioc-LATEST/netOmics/raw-results/lconway
Name
Last modified
Size
Description
Parent Directory
-
install-summary.dcf
28-Jul-2024 00:41
271
install-out.txt
28-Jul-2024 00:41
1.0K
buildsrc-summary.dcf
28-Jul-2024 00:41
345
buildsrc-out.txt
28-Jul-2024 00:41
1.0K