Index of /checkResults/devel/bioc-LATEST/netOmics/raw-results/lconway
Name
Last modified
Size
Description
Parent Directory
-
buildsrc-out.txt
29-Mar-2024 00:39
907
buildsrc-summary.dcf
29-Mar-2024 00:39
343
install-out.txt
29-Mar-2024 00:39
710
install-summary.dcf
29-Mar-2024 00:39
272