Index of /checkResults/devel/bioc-LATEST/netOmics/raw-results/kunpeng2
Name
Last modified
Size
Description
Parent Directory
-
install-summary.dcf
06-Jul-2024 00:44
251
install-out.txt
06-Jul-2024 00:44
612
buildsrc-out.txt
09-Jul-2024 00:45
1.0K
buildsrc-summary.dcf
09-Jul-2024 00:45
323